BEGIN:VCALENDAR
VERSION:2.0
PRODID:-//Moto Club Tous Vents - ECPv6.15.16//NONSGML v1.0//EN
CALSCALE:GREGORIAN
METHOD:PUBLISH
X-ORIGINAL-URL:https://mctv.ch
X-WR-CALDESC:Évènements pour Moto Club Tous Vents
REFRESH-INTERVAL;VALUE=DURATION:PT1H
X-Robots-Tag:noindex
X-PUBLISHED-TTL:PT1H
BEGIN:VTIMEZONE
TZID:Europe/Zurich
BEGIN:DAYLIGHT
TZOFFSETFROM:+0100
TZOFFSETTO:+0200
TZNAME:CEST
DTSTART:20240331T010000
END:DAYLIGHT
BEGIN:STANDARD
TZOFFSETFROM:+0200
TZOFFSETTO:+0100
TZNAME:CET
DTSTART:20241027T010000
END:STANDARD
BEGIN:DAYLIGHT
TZOFFSETFROM:+0100
TZOFFSETTO:+0200
TZNAME:CEST
DTSTART:20250330T010000
END:DAYLIGHT
BEGIN:STANDARD
TZOFFSETFROM:+0200
TZOFFSETTO:+0100
TZNAME:CET
DTSTART:20251026T010000
END:STANDARD
BEGIN:DAYLIGHT
TZOFFSETFROM:+0100
TZOFFSETTO:+0200
TZNAME:CEST
DTSTART:20260329T010000
END:DAYLIGHT
BEGIN:STANDARD
TZOFFSETFROM:+0200
TZOFFSETTO:+0100
TZNAME:CET
DTSTART:20261025T010000
END:STANDARD
BEGIN:DAYLIGHT
TZOFFSETFROM:+0100
TZOFFSETTO:+0200
TZNAME:CEST
DTSTART:20270328T010000
END:DAYLIGHT
BEGIN:STANDARD
TZOFFSETFROM:+0200
TZOFFSETTO:+0100
TZNAME:CET
DTSTART:20271031T010000
END:STANDARD
END:VTIMEZONE
BEGIN:VEVENT
DTSTART;TZID=Europe/Zurich:20260407T180000
DTEND;TZID=Europe/Zurich:20260407T233000
DTSTAMP:20260423T103839
CREATED:20260204T140716Z
LAST-MODIFIED:20260206T161418Z
UID:30092-1775584800-1775604600@mctv.ch
SUMMARY:1er Mardi noir
DESCRIPTION:Pour le premier mardi de cette saison c’est votre comité qui a le plaisir d’ouvrir le bal et de vous faire à souper. On vous attend nombreux pour cette reprise !
URL:https://mctv.ch/event/1er-mardi-noir/
LOCATION:Bellini\, Chem. de Bellini\, Sion\, Valais\, 1950\, Suisse
ATTACH;FMTTYPE=image/x-citrix-jpeg:https://mctv.ch/wp-content/uploads/2026/02/IMG-20250708-WA0011.jpg
ORGANIZER;CN="Le comit%C3%A9":MAILTO:info@mctv.ch
END:VEVENT
BEGIN:VEVENT
DTSTART;TZID=Europe/Zurich:20260328T000000
DTEND;TZID=Europe/Zurich:20260328T235959
DTSTAMP:20260423T103839
CREATED:20260125T201723Z
LAST-MODIFIED:20260206T161321Z
UID:30074-1774656000-1774742399@mctv.ch
SUMMARY:Ouverture de la cabane
DESCRIPTION:L’Ouverture de la cabane est un moment convivial important ! Nous avons besoin de toi pour nous donner un coup de main car seul on va pas plus vite mais à plusieurs oui !
URL:https://mctv.ch/event/ouverture-de-la-cabane/
LOCATION:Bellini\, Chem. de Bellini\, Sion\, Valais\, 1950\, Suisse
ATTACH;FMTTYPE=image/x-citrix-jpeg:https://mctv.ch/wp-content/uploads/2025/04/20240411_193032.jpg
ORGANIZER;CN="Bryan Marget":MAILTO:cabane@mctv.ch
END:VEVENT
BEGIN:VEVENT
DTSTART;TZID=Europe/Zurich:20251108T090000
DTEND;TZID=Europe/Zurich:20251108T170000
DTSTAMP:20260423T103839
CREATED:20251005T154646Z
LAST-MODIFIED:20251005T154646Z
UID:30021-1762592400-1762621200@mctv.ch
SUMMARY:Fermeture de la cabane
DESCRIPTION:Voici venu le temps de clôturer notre saison 2025. \nBryan compte sur vous une toute dernière fois afin de fermer la cabane. Alors si vous n’avez rien au programme ce jour là et que vous souhaitez passer un super moment de partage rejoignez nous sans plus tarder ! \nATTENTION : LA PISTE DE CROSS SERA FERMEE CE JOUR LA !
URL:https://mctv.ch/event/fermeture-de-la-cabane/
ATTACH;FMTTYPE=image/x-citrix-jpeg:https://mctv.ch/wp-content/uploads/2025/10/thumbnail_PHOTO-2022-11-12-16-47-49.jpg
END:VEVENT
BEGIN:VEVENT
DTSTART;TZID=Europe/Zurich:20251104T183000
DTEND;TZID=Europe/Zurich:20251104T220000
DTSTAMP:20260423T103839
CREATED:20251005T154142Z
LAST-MODIFIED:20251005T154142Z
UID:30019-1762281000-1762293600@mctv.ch
SUMMARY:Mardi des 7 AS
DESCRIPTION:
URL:https://mctv.ch/event/mardi-des-7-as/
ATTACH;FMTTYPE=image/x-citrix-jpeg:https://mctv.ch/wp-content/uploads/2025/10/rose-noir-minimaliste-3D-black-friday-publication-instagram.jpg
END:VEVENT
BEGIN:VEVENT
DTSTART;TZID=Europe/Zurich:20251028T080000
DTEND;TZID=Europe/Zurich:20251028T170000
DTSTAMP:20260423T103839
CREATED:20251005T154048Z
LAST-MODIFIED:20251005T154048Z
UID:30017-1761638400-1761670800@mctv.ch
SUMMARY:Mardi des annonceurs
DESCRIPTION:
URL:https://mctv.ch/event/mardi-des-annonceurs/
ATTACH;FMTTYPE=image/x-citrix-jpeg:https://mctv.ch/wp-content/uploads/2025/10/rose-noir-minimaliste-3D-black-friday-publication-instagram.jpg
END:VEVENT
BEGIN:VEVENT
DTSTART;TZID=Europe/Zurich:20251021T183000
DTEND;TZID=Europe/Zurich:20251021T220000
DTSTAMP:20260423T103839
CREATED:20251005T154005Z
LAST-MODIFIED:20251005T154005Z
UID:30015-1761071400-1761084000@mctv.ch
SUMMARY:Mardi Cross
DESCRIPTION:
URL:https://mctv.ch/event/mardi-cross/
ATTACH;FMTTYPE=image/x-citrix-jpeg:https://mctv.ch/wp-content/uploads/2025/10/rose-noir-minimaliste-3D-black-friday-publication-instagram.jpg
END:VEVENT
BEGIN:VEVENT
DTSTART;TZID=Europe/Zurich:20251014T183000
DTEND;TZID=Europe/Zurich:20251014T220000
DTSTAMP:20260423T103839
CREATED:20251005T153919Z
LAST-MODIFIED:20251005T153919Z
UID:30013-1760466600-1760479200@mctv.ch
SUMMARY:Mardi Pierre-Guy-Phill-Gaston
DESCRIPTION:
URL:https://mctv.ch/event/mardi-pierre-guy-phill-gaston/
ATTACH;FMTTYPE=image/x-citrix-jpeg:https://mctv.ch/wp-content/uploads/2025/10/rose-noir-minimaliste-3D-black-friday-publication-instagram.jpg
END:VEVENT
BEGIN:VEVENT
DTSTART;TZID=Europe/Zurich:20251007T183000
DTEND;TZID=Europe/Zurich:20251007T220000
DTSTAMP:20260423T103839
CREATED:20251005T153724Z
LAST-MODIFIED:20251005T153724Z
UID:30010-1759861800-1759874400@mctv.ch
SUMMARY:Mardi Team Sardaigne
DESCRIPTION:
URL:https://mctv.ch/event/mardi-team-sardaigne/
ATTACH;FMTTYPE=image/x-citrix-jpeg:https://mctv.ch/wp-content/uploads/2025/10/rose-noir-minimaliste-3D-black-friday-publication-instagram.jpg
END:VEVENT
BEGIN:VEVENT
DTSTART;TZID=Europe/Zurich:20251005T080000
DTEND;TZID=Europe/Zurich:20251005T170000
DTSTAMP:20260423T103839
CREATED:20251005T155136Z
LAST-MODIFIED:20251005T155206Z
UID:30027-1759651200-1759683600@mctv.ch
SUMMARY:Souper Annuel
DESCRIPTION:Pour participer à cette soirée vous pouvez dès a présent vous inscrire  ICI
URL:https://mctv.ch/event/souper-annuel/
ATTACH;FMTTYPE=image/x-citrix-jpeg:https://mctv.ch/wp-content/uploads/2025/10/Black-Retro-Movie-Night-Poster-4.jpg
END:VEVENT
END:VCALENDAR